Package: switchde Version: 1.32.0 Command: /home/biocbuild/R/R/bin/R CMD INSTALL switchde StartedAt: 2025-01-30 20:17:23 -0000 (Thu, 30 Jan 2025) EndedAt: 2025-01-30 20:17:52 -0000 (Thu, 30 Jan 2025) EllapsedTime: 28.4 seconds RetCode: 0 Status: OK