Package: switchde Version: 1.32.0 Command: /home/biocbuild/bbs-3.20-bioc/R/bin/R CMD check --install=check:switchde.install-out.txt --library=/home/biocbuild/bbs-3.20-bioc/R/site-library --timings switchde_1.32.0.tar.gz StartedAt: 2025-01-31 02:53:25 -0500 (Fri, 31 Jan 2025) EndedAt: 2025-01-31 02:56:15 -0500 (Fri, 31 Jan 2025) EllapsedTime: 170.2 seconds RetCode: 0 Status: OK CheckDir: switchde.Rcheck Warnings: 0