Package: swfdr Version: 1.32.0 Command: chmod a+r swfdr -R && F:\biocbuild\bbs-3.20-bioc\R\bin\R.exe CMD build --keep-empty-dirs --no-resave-data swfdr StartedAt: 2025-01-30 22:13:07 -0500 (Thu, 30 Jan 2025) EndedAt: 2025-01-30 22:14:31 -0500 (Thu, 30 Jan 2025) EllapsedTime: 83.9 seconds RetCode: 0 Status: OK PackageFile: swfdr_1.32.0.tar.gz PackageFileSize: 1.206 MiB