Package: swfdr Version: 1.32.0 Command: /Library/Frameworks/R.framework/Resources/bin/R CMD build --keep-empty-dirs --no-resave-data swfdr StartedAt: 2025-01-31 09:14:48 -0500 (Fri, 31 Jan 2025) EndedAt: 2025-01-31 09:15:54 -0500 (Fri, 31 Jan 2025) EllapsedTime: 66.2 seconds RetCode: 0 Status: OK PackageFile: swfdr_1.32.0.tar.gz PackageFileSize: 1.202 MiB