Package: svaRetro Version: 1.12.0 Command: rm -rf svaRetro.buildbin-libdir && mkdir svaRetro.buildbin-libdir && F:\biocbuild\bbs-3.20-bioc\R\bin\R.exe CMD INSTALL --build --library=svaRetro.buildbin-libdir svaRetro_1.12.0.tar.gz StartedAt: 2025-01-31 09:44:50 -0500 (Fri, 31 Jan 2025) EndedAt: 2025-01-31 09:45:35 -0500 (Fri, 31 Jan 2025) EllapsedTime: 45.4 seconds RetCode: 0 Status: OK PackageFile: svaRetro_1.12.0.zip PackageFileSize: 1.468 MiB