Package: svaRetro Version: 1.12.0 Command: /Library/Frameworks/R.framework/Resources/bin/R CMD check --install=check:svaRetro.install-out.txt --library=/Library/Frameworks/R.framework/Resources/library --no-vignettes --timings svaRetro_1.12.0.tar.gz StartedAt: 2025-02-01 11:23:03 -0500 (Sat, 01 Feb 2025) EndedAt: 2025-02-01 11:29:47 -0500 (Sat, 01 Feb 2025) EllapsedTime: 403.7 seconds RetCode: 0 Status: OK CheckDir: svaRetro.Rcheck Warnings: 0