Package: svaRetro Version: 1.12.0 Command: rm -rf svaRetro.buildbin-libdir && mkdir svaRetro.buildbin-libdir && /Users/biocbuild/BBS/utils/build-universal.sh svaRetro_1.12.0.tar.gz /Library/Frameworks/R.framework/Resources/bin/R svaRetro.buildbin-libdir StartedAt: 2025-02-01 17:07:20 -0500 (Sat, 01 Feb 2025) EndedAt: 2025-02-01 17:08:12 -0500 (Sat, 01 Feb 2025) EllapsedTime: 51.8 seconds RetCode: 0 Status: OK PackageFile: svaRetro_1.12.0.tgz PackageFileSize: 1.529 MiB