Package: svaNUMT Version: 1.12.0 Command: rm -rf svaNUMT.buildbin-libdir && mkdir svaNUMT.buildbin-libdir && F:\biocbuild\bbs-3.20-bioc\R\bin\R.exe CMD INSTALL --build --library=svaNUMT.buildbin-libdir svaNUMT_1.12.0.tar.gz StartedAt: 2025-01-31 09:44:48 -0500 (Fri, 31 Jan 2025) EndedAt: 2025-01-31 09:45:31 -0500 (Fri, 31 Jan 2025) EllapsedTime: 43.0 seconds RetCode: 0 Status: OK PackageFile: svaNUMT_1.12.0.zip PackageFileSize: 632.2 KiB