Package: svaNUMT Version: 1.12.0 Command: /Library/Frameworks/R.framework/Resources/bin/R CMD INSTALL svaNUMT StartedAt: 2025-01-30 15:43:28 -0500 (Thu, 30 Jan 2025) EndedAt: 2025-01-30 15:44:51 -0500 (Thu, 30 Jan 2025) EllapsedTime: 83.1 seconds RetCode: 0 Status: OK