Package: sva Version: 3.54.0 Command: /home/biocbuild/R/R/bin/R CMD build --keep-empty-dirs --no-resave-data sva StartedAt: 2025-01-31 03:04:38 -0000 (Fri, 31 Jan 2025) EndedAt: 2025-01-31 03:05:41 -0000 (Fri, 31 Jan 2025) EllapsedTime: 63.0 seconds RetCode: 0 Status: OK PackageFile: sva_3.54.0.tar.gz PackageFileSize: 432.1 KiB