Package: sva Version: 3.54.0 Command: F:\biocbuild\bbs-3.20-bioc\R\bin\R.exe CMD INSTALL sva StartedAt: 2025-01-30 16:28:08 -0500 (Thu, 30 Jan 2025) EndedAt: 2025-01-30 16:28:39 -0500 (Thu, 30 Jan 2025) EllapsedTime: 31.4 seconds RetCode: 0 Status: OK