Package: sva Version: 3.54.0 Command: /home/biocbuild/bbs-3.20-bioc/R/bin/R CMD INSTALL sva StartedAt: 2025-01-30 15:43:40 -0500 (Thu, 30 Jan 2025) EndedAt: 2025-01-30 15:44:05 -0500 (Thu, 30 Jan 2025) EllapsedTime: 25.3 seconds RetCode: 0 Status: OK