Package: survcomp Version: 1.56.0 Command: /Library/Frameworks/R.framework/Resources/bin/R CMD build --keep-empty-dirs --no-resave-data survcomp StartedAt: 2025-01-30 23:18:34 -0500 (Thu, 30 Jan 2025) EndedAt: 2025-01-30 23:19:19 -0500 (Thu, 30 Jan 2025) EllapsedTime: 45.1 seconds RetCode: 0 Status: OK PackageFile: survcomp_1.56.0.tar.gz PackageFileSize: 638 KiB