Package: survcomp Version: 1.56.0 Command: /home/biocbuild/R/R/bin/R CMD build --keep-empty-dirs --no-resave-data survcomp StartedAt: 2024-11-20 04:21:13 -0000 (Wed, 20 Nov 2024) EndedAt: 2024-11-20 04:21:38 -0000 (Wed, 20 Nov 2024) EllapsedTime: 25.0 seconds RetCode: 0 Status: OK PackageFile: survcomp_1.56.0.tar.gz PackageFileSize: 634.1 KiB