Package: subSeq Version: 1.36.0 Command: F:\biocbuild\bbs-3.20-bioc\R\bin\R.exe CMD check --no-multiarch --install=check:subSeq.install-out.txt --library=F:\biocbuild\bbs-3.20-bioc\R\library --no-vignettes --timings subSeq_1.36.0.tar.gz StartedAt: 2025-01-31 07:00:40 -0500 (Fri, 31 Jan 2025) EndedAt: 2025-01-31 07:03:35 -0500 (Fri, 31 Jan 2025) EllapsedTime: 175.4 seconds RetCode: 0 Status: OK CheckDir: subSeq.Rcheck Warnings: 0