Package: structToolbox Version: 1.18.1 Command: /home/biocbuild/R/R/bin/R CMD check --install=check:structToolbox.install-out.txt --library=/home/biocbuild/R/R/site-library --no-vignettes --timings structToolbox_1.18.1.tar.gz StartedAt: 2025-01-31 10:50:43 -0000 (Fri, 31 Jan 2025) EndedAt: 2025-01-31 11:00:58 -0000 (Fri, 31 Jan 2025) EllapsedTime: 614.8 seconds RetCode: 0 Status: OK CheckDir: structToolbox.Rcheck Warnings: 0