Package: strandCheckR Version: 1.24.0 Command: /Library/Frameworks/R.framework/Resources/bin/R CMD check --install=check:strandCheckR.install-out.txt --library=/Library/Frameworks/R.framework/Resources/library --no-vignettes --timings strandCheckR_1.24.0.tar.gz StartedAt: 2025-01-31 10:49:45 -0500 (Fri, 31 Jan 2025) EndedAt: 2025-01-31 10:58:31 -0500 (Fri, 31 Jan 2025) EllapsedTime: 526.2 seconds RetCode: 0 Status: OK CheckDir: strandCheckR.Rcheck Warnings: 0