Package: standR Version: 1.10.0 Command: /home/biocbuild/bbs-3.20-bioc/R/bin/R CMD check --install=check:standR.install-out.txt --library=/home/biocbuild/bbs-3.20-bioc/R/site-library --timings standR_1.10.0.tar.gz StartedAt: 2025-01-31 02:46:41 -0500 (Fri, 31 Jan 2025) EndedAt: 2025-01-31 02:52:30 -0500 (Fri, 31 Jan 2025) EllapsedTime: 349.4 seconds RetCode: 0 Status: OK CheckDir: standR.Rcheck Warnings: 0