Package: standR Version: 1.10.0 Command: /Library/Frameworks/R.framework/Resources/bin/R CMD INSTALL standR StartedAt: 2025-01-30 16:27:18 -0500 (Thu, 30 Jan 2025) EndedAt: 2025-01-30 16:27:47 -0500 (Thu, 30 Jan 2025) EllapsedTime: 28.9 seconds RetCode: 0 Status: OK