Package: ssize Version: 1.80.0 Command: /home/biocbuild/R/R/bin/R CMD check --install=check:ssize.install-out.txt --library=/home/biocbuild/R/R/site-library --no-vignettes --timings ssize_1.80.0.tar.gz StartedAt: 2025-01-31 10:46:59 -0000 (Fri, 31 Jan 2025) EndedAt: 2025-01-31 10:47:21 -0000 (Fri, 31 Jan 2025) EllapsedTime: 21.0 seconds RetCode: 0 Status: OK CheckDir: ssize.Rcheck Warnings: 0