Package: ssize Version: 1.80.0 Command: /home/biocbuild/bbs-3.20-bioc/R/bin/R CMD INSTALL ssize StartedAt: 2025-01-30 15:05:07 -0500 (Thu, 30 Jan 2025) EndedAt: 2025-01-30 15:05:21 -0500 (Thu, 30 Jan 2025) EllapsedTime: 13.8 seconds RetCode: 0 Status: OK