Package: ssize Version: 1.80.0 Command: /home/biocbuild/bbs-3.20-bioc/R/bin/R CMD check --install=check:ssize.install-out.txt --library=/home/biocbuild/bbs-3.20-bioc/R/site-library --timings ssize_1.80.0.tar.gz StartedAt: 2025-01-31 02:45:40 -0500 (Fri, 31 Jan 2025) EndedAt: 2025-01-31 02:46:01 -0500 (Fri, 31 Jan 2025) EllapsedTime: 21.0 seconds RetCode: 0 Status: OK CheckDir: ssize.Rcheck Warnings: 0