Package: squallms Version: 1.0.0 Command: /Library/Frameworks/R.framework/Resources/bin/R CMD INSTALL squallms StartedAt: 2025-01-30 16:28:09 -0500 (Thu, 30 Jan 2025) EndedAt: 2025-01-30 16:29:43 -0500 (Thu, 30 Jan 2025) EllapsedTime: 93.8 seconds RetCode: 0 Status: OK