Package: squallms Version: 1.0.0 Command: /Library/Frameworks/R.framework/Resources/bin/R CMD build --keep-empty-dirs --no-resave-data squallms StartedAt: 2025-01-30 23:11:35 -0500 (Thu, 30 Jan 2025) EndedAt: 2025-01-30 23:14:37 -0500 (Thu, 30 Jan 2025) EllapsedTime: 181.8 seconds RetCode: 0 Status: OK PackageFile: squallms_1.0.0.tar.gz PackageFileSize: 2.286 MiB