Package: spqn Version: 1.18.0 Command: /home/biocbuild/R/R/bin/R CMD check --install=check:spqn.install-out.txt --library=/home/biocbuild/R/R/site-library --no-vignettes --timings spqn_1.18.0.tar.gz StartedAt: 2025-01-31 10:43:53 -0000 (Fri, 31 Jan 2025) EndedAt: 2025-01-31 11:08:46 -0000 (Fri, 31 Jan 2025) EllapsedTime: 1492.9 seconds RetCode: 0 Status: OK CheckDir: spqn.Rcheck Warnings: 0