Package: spqn Version: 1.18.0 Command: /Library/Frameworks/R.framework/Resources/bin/R CMD build --keep-empty-dirs --no-resave-data spqn StartedAt: 2025-01-30 23:10:49 -0500 (Thu, 30 Jan 2025) EndedAt: 2025-01-30 23:14:19 -0500 (Thu, 30 Jan 2025) EllapsedTime: 210.2 seconds RetCode: 0 Status: OK PackageFile: spqn_1.18.0.tar.gz PackageFileSize: 2.807 MiB