Package: spoon Version: 1.2.0 Command: /home/biocbuild/R/R/bin/R CMD check --install=check:spoon.install-out.txt --library=/home/biocbuild/R/R/site-library --no-vignettes --timings spoon_1.2.0.tar.gz StartedAt: 2025-01-31 10:43:03 -0000 (Fri, 31 Jan 2025) EndedAt: 2025-01-31 10:51:26 -0000 (Fri, 31 Jan 2025) EllapsedTime: 502.6 seconds RetCode: 0 Status: OK CheckDir: spoon.Rcheck Warnings: 0