Package: splots Version: 1.72.0 Command: /Library/Frameworks/R.framework/Resources/bin/R CMD check --install=check:splots.install-out.txt --library=/Library/Frameworks/R.framework/Resources/library --no-vignettes --timings splots_1.72.0.tar.gz StartedAt: 2025-02-01 10:40:02 -0500 (Sat, 01 Feb 2025) EndedAt: 2025-02-01 10:40:25 -0500 (Sat, 01 Feb 2025) EllapsedTime: 23.6 seconds RetCode: 0 Status: OK CheckDir: splots.Rcheck Warnings: 0