Package: splots Version: 1.72.0 Command: /Library/Frameworks/R.framework/Resources/bin/R CMD build --keep-empty-dirs --no-resave-data splots StartedAt: 2025-01-31 08:51:05 -0500 (Fri, 31 Jan 2025) EndedAt: 2025-01-31 08:52:25 -0500 (Fri, 31 Jan 2025) EllapsedTime: 80.1 seconds RetCode: 0 Status: OK PackageFile: splots_1.72.0.tar.gz PackageFileSize: 706.1 KiB