Package: splineTimeR Version: 1.34.0 Command: /home/biocbuild/R/R/bin/R CMD INSTALL splineTimeR StartedAt: 2025-01-30 20:24:45 -0000 (Thu, 30 Jan 2025) EndedAt: 2025-01-30 20:25:04 -0000 (Thu, 30 Jan 2025) EllapsedTime: 19.6 seconds RetCode: 0 Status: OK