Package: splineTimeR Version: 1.34.0 Command: /Library/Frameworks/R.framework/Resources/bin/R CMD build --keep-empty-dirs --no-resave-data splineTimeR StartedAt: 2025-01-31 08:49:10 -0500 (Fri, 31 Jan 2025) EndedAt: 2025-01-31 08:50:05 -0500 (Fri, 31 Jan 2025) EllapsedTime: 54.7 seconds RetCode: 0 Status: OK PackageFile: splineTimeR_1.34.0.tar.gz PackageFileSize: 1.225 MiB