Package: splatter Version: 1.30.0 Command: /home/biocbuild/R/R/bin/R CMD INSTALL splatter StartedAt: 2025-01-30 20:50:42 -0000 (Thu, 30 Jan 2025) EndedAt: 2025-01-30 20:51:18 -0000 (Thu, 30 Jan 2025) EllapsedTime: 35.9 seconds RetCode: 0 Status: OK