Package: splatter Version: 1.30.0 Command: /home/biocbuild/R/R/bin/R CMD build --keep-empty-dirs --no-resave-data splatter StartedAt: 2025-01-31 02:56:02 -0000 (Fri, 31 Jan 2025) EndedAt: 2025-01-31 03:00:22 -0000 (Fri, 31 Jan 2025) EllapsedTime: 260.2 seconds RetCode: 0 Status: OK PackageFile: splatter_1.30.0.tar.gz PackageFileSize: 4.477 MiB