Package: splatter Version: 1.30.0 Command: /home/biocbuild/bbs-3.20-bioc/R/bin/R CMD INSTALL splatter StartedAt: 2025-01-30 15:43:50 -0500 (Thu, 30 Jan 2025) EndedAt: 2025-01-30 15:44:25 -0500 (Thu, 30 Jan 2025) EllapsedTime: 35.1 seconds RetCode: 0 Status: OK