Package: spkTools Version: 1.62.0 Command: /Library/Frameworks/R.framework/Resources/bin/R CMD INSTALL spkTools StartedAt: 2025-01-30 15:07:55 -0500 (Thu, 30 Jan 2025) EndedAt: 2025-01-30 15:08:25 -0500 (Thu, 30 Jan 2025) EllapsedTime: 29.6 seconds RetCode: 0 Status: OK