Package: speckle Version: 1.6.0 Command: F:\biocbuild\bbs-3.20-bioc\R\bin\R.exe CMD check --no-multiarch --install=check:speckle.install-out.txt --library=F:\biocbuild\bbs-3.20-bioc\R\library --no-vignettes --timings speckle_1.6.0.tar.gz StartedAt: 2025-01-31 06:45:07 -0500 (Fri, 31 Jan 2025) EndedAt: 2025-01-31 06:50:03 -0500 (Fri, 31 Jan 2025) EllapsedTime: 296.2 seconds RetCode: 0 Status: OK CheckDir: speckle.Rcheck Warnings: 0