Package: specL Version: 1.39.0 Command: chmod a+r specL -R && C:\Users\biocbuild\bbs-3.20-bioc\R\bin\R.exe CMD build --keep-empty-dirs --no-resave-data specL StartedAt: 2024-07-15 21:02:03 -0400 (Mon, 15 Jul 2024) EndedAt: 2024-07-15 21:02:34 -0400 (Mon, 15 Jul 2024) EllapsedTime: 31.5 seconds RetCode: 0 Status: OK PackageFile: specL_1.39.0.tar.gz PackageFileSize: 1.387 MiB