Package: spatialHeatmap Version: 2.12.1 Command: /home/biocbuild/bbs-3.20-bioc/R/bin/R CMD check --install=check:spatialHeatmap.install-out.txt --library=/home/biocbuild/bbs-3.20-bioc/R/site-library --timings spatialHeatmap_2.12.1.tar.gz StartedAt: 2025-01-31 02:34:00 -0500 (Fri, 31 Jan 2025) EndedAt: 2025-01-31 02:44:04 -0500 (Fri, 31 Jan 2025) EllapsedTime: 603.5 seconds RetCode: 0 Status: OK CheckDir: spatialHeatmap.Rcheck Warnings: 0