Package: spatialDE Version: 1.12.0 Command: /home/biocbuild/R/R/bin/R CMD INSTALL spatialDE StartedAt: 2025-01-30 20:22:09 -0000 (Thu, 30 Jan 2025) EndedAt: 2025-01-30 20:22:33 -0000 (Thu, 30 Jan 2025) EllapsedTime: 24.1 seconds RetCode: 0 Status: OK