Package: spatialDE Version: 1.12.0 Command: /home/biocbuild/R/R/bin/R CMD build --keep-empty-dirs --no-resave-data spatialDE StartedAt: 2025-01-31 02:53:09 -0000 (Fri, 31 Jan 2025) EndedAt: 2025-01-31 02:56:02 -0000 (Fri, 31 Jan 2025) EllapsedTime: 173.1 seconds RetCode: 0 Status: OK PackageFile: spatialDE_1.12.0.tar.gz PackageFileSize: 2.514 MiB