Package: spatialDE Version: 1.12.0 Command: F:\biocbuild\bbs-3.20-bioc\R\bin\R.exe CMD INSTALL spatialDE StartedAt: 2025-01-30 16:06:13 -0500 (Thu, 30 Jan 2025) EndedAt: 2025-01-30 16:06:49 -0500 (Thu, 30 Jan 2025) EllapsedTime: 35.3 seconds RetCode: 0 Status: OK