Package: spatialDE Version: 1.12.0 Command: rm -rf spatialDE.buildbin-libdir && mkdir spatialDE.buildbin-libdir && F:\biocbuild\bbs-3.20-bioc\R\bin\R.exe CMD INSTALL --build --library=spatialDE.buildbin-libdir spatialDE_1.12.0.tar.gz StartedAt: 2025-01-31 09:41:20 -0500 (Fri, 31 Jan 2025) EndedAt: 2025-01-31 09:41:57 -0500 (Fri, 31 Jan 2025) EllapsedTime: 37.4 seconds RetCode: 0 Status: OK PackageFile: spatialDE_1.12.0.zip PackageFileSize: 2.17 MiB