Package: spatialDE Version: 1.12.0 Command: /home/biocbuild/bbs-3.20-bioc/R/bin/R CMD INSTALL spatialDE StartedAt: 2025-01-30 15:18:40 -0500 (Thu, 30 Jan 2025) EndedAt: 2025-01-30 15:19:00 -0500 (Thu, 30 Jan 2025) EllapsedTime: 19.8 seconds RetCode: 0 Status: OK