Package: spatialDE Version: 1.12.0 Command: /home/biocbuild/bbs-3.20-bioc/R/bin/R CMD check --install=check:spatialDE.install-out.txt --library=/home/biocbuild/bbs-3.20-bioc/R/site-library --timings spatialDE_1.12.0.tar.gz StartedAt: 2025-01-31 02:32:55 -0500 (Fri, 31 Jan 2025) EndedAt: 2025-01-31 02:39:26 -0500 (Fri, 31 Jan 2025) EllapsedTime: 391.4 seconds RetCode: 0 Status: OK CheckDir: spatialDE.Rcheck Warnings: 0