Package: spatialDE Version: 1.12.0 Command: /Library/Frameworks/R.framework/Resources/bin/R CMD build --keep-empty-dirs --no-resave-data spatialDE StartedAt: 2025-01-31 08:36:48 -0500 (Fri, 31 Jan 2025) EndedAt: 2025-01-31 08:38:58 -0500 (Fri, 31 Jan 2025) EllapsedTime: 130.0 seconds RetCode: 0 Status: OK PackageFile: spatialDE_1.12.0.tar.gz PackageFileSize: 3.876 MiB