Package: sparseMatrixStats Version: 1.18.0 Command: chmod a+r sparseMatrixStats -R && F:\biocbuild\bbs-3.20-bioc\R\bin\R.exe CMD build --keep-empty-dirs --no-resave-data sparseMatrixStats StartedAt: 2025-01-30 21:59:51 -0500 (Thu, 30 Jan 2025) EndedAt: 2025-01-30 22:00:47 -0500 (Thu, 30 Jan 2025) EllapsedTime: 55.6 seconds RetCode: 0 Status: OK PackageFile: sparseMatrixStats_1.18.0.tar.gz PackageFileSize: 687.8 KiB