Package: sparrow Version: 1.12.0 Command: /Library/Frameworks/R.framework/Resources/bin/R CMD INSTALL sparrow StartedAt: 2025-01-30 16:54:23 -0500 (Thu, 30 Jan 2025) EndedAt: 2025-01-30 16:54:58 -0500 (Thu, 30 Jan 2025) EllapsedTime: 35.4 seconds RetCode: 0 Status: OK