Package: sparrow Version: 1.12.0 Command: /Library/Frameworks/R.framework/Resources/bin/R CMD check --install=check:sparrow.install-out.txt --library=/Library/Frameworks/R.framework/Resources/library --no-vignettes --timings sparrow_1.12.0.tar.gz StartedAt: 2025-02-01 10:03:44 -0500 (Sat, 01 Feb 2025) EndedAt: 2025-02-01 10:14:32 -0500 (Sat, 01 Feb 2025) EllapsedTime: 648.0 seconds RetCode: 0 Status: OK CheckDir: sparrow.Rcheck Warnings: 0