Package: sparrow Version: 1.12.0 Command: /Library/Frameworks/R.framework/Resources/bin/R CMD build --keep-empty-dirs --no-resave-data sparrow StartedAt: 2025-01-31 08:30:47 -0500 (Fri, 31 Jan 2025) EndedAt: 2025-01-31 08:35:52 -0500 (Fri, 31 Jan 2025) EllapsedTime: 304.6 seconds RetCode: 0 Status: OK PackageFile: sparrow_1.12.0.tar.gz PackageFileSize: 4.215 MiB