Package: spaSim Version: 1.8.0 Command: /home/biocbuild/R/R/bin/R CMD build --keep-empty-dirs --no-resave-data spaSim StartedAt: 2025-01-31 02:52:34 -0000 (Fri, 31 Jan 2025) EndedAt: 2025-01-31 02:54:53 -0000 (Fri, 31 Jan 2025) EllapsedTime: 139.1 seconds RetCode: 0 Status: OK PackageFile: spaSim_1.8.0.tar.gz PackageFileSize: 1.638 MiB